BEGIN:VCALENDAR
VERSION:2.0
PRODID:-//MIYAMAいく　～ ぎふ美山 × 行・育・生 ～ - ECPv6.14.2//NONSGML v1.0//EN
CALSCALE:GREGORIAN
METHOD:PUBLISH
X-WR-CALNAME:MIYAMAいく　～ ぎふ美山 × 行・育・生 ～
X-ORIGINAL-URL:https://miyama-iku.com
X-WR-CALDESC:MIYAMAいく　～ ぎふ美山 × 行・育・生 ～ のイベント
REFRESH-INTERVAL;VALUE=DURATION:PT1H
X-Robots-Tag:noindex
X-PUBLISHED-TTL:PT1H
BEGIN:VTIMEZONE
TZID:Asia/Tokyo
BEGIN:STANDARD
TZOFFSETFROM:+0900
TZOFFSETTO:+0900
TZNAME:JST
DTSTART:20220101T000000
END:STANDARD
END:VTIMEZONE
BEGIN:VEVENT
DTSTART;TZID=Asia/Tokyo:20220905T173000
DTEND;TZID=Asia/Tokyo:20220912T193000
DTSTAMP:20260425T062831
CREATED:20220825T153345Z
LAST-MODIFIED:20220829T163033Z
UID:576-1662399000-1663011000@miyama-iku.com
SUMMARY:【秋】ぎふ美山ナイトウォッチング ～秋の生きもの観察～
DESCRIPTION:自然豊かな みやまの森 の秋の夜には\nどんな生きものが活動しているでしょうか？\n昼とは どんな違いがあるでしょうか？ \n一緒に生きものを探して 観察してみましょう♪ \n見つけた生きものは\nじっくり観察して生態に迫ります！ \n【開催日】　できる限りご要望の日に随時開催いたします \n【定員】　各回8名 \n【料金】　2\,000円（1名）　※足元の悪い場所もあるため小学生以下の方は ご遠慮ください　 \n【時間】　17:30集合　19:30解散　（受付、休憩含む） \n【持ち物】　懐中電灯、動きやすい履きなれた靴（あれば長靴）、長袖長ズボン、飲み物、虫よけスプレー等 \n【場所】　みやまの森　（岐阜県山県市富永１１１１）\n　　　　　　　※無料駐車場をご利用いただけます\n　　　　　　　※場所は天候や生きものの状況によって変更することがあります \n↓↓↓予約申し込みはコチラ↓↓↓\nhttps://tol-app.jp/s/miyama-iku/suh0rj
URL:https://miyama-iku.com/event/night-watching-autumn/
CATEGORIES:ガイドツアー,ナイトウォッチング
END:VEVENT
END:VCALENDAR