BEGIN:VCALENDAR
VERSION:2.0
PRODID:-//MIYAMAいく　～ ぎふ美山 × 行・育・生 ～ - ECPv6.14.2//NONSGML v1.0//EN
CALSCALE:GREGORIAN
METHOD:PUBLISH
X-WR-CALNAME:MIYAMAいく　～ ぎふ美山 × 行・育・生 ～
X-ORIGINAL-URL:https://miyama-iku.com
X-WR-CALDESC:MIYAMAいく　～ ぎふ美山 × 行・育・生 ～ のイベント
REFRESH-INTERVAL;VALUE=DURATION:PT1H
X-Robots-Tag:noindex
X-PUBLISHED-TTL:PT1H
BEGIN:VTIMEZONE
TZID:Asia/Tokyo
BEGIN:STANDARD
TZOFFSETFROM:+0900
TZOFFSETTO:+0900
TZNAME:JST
DTSTART:20220101T000000
END:STANDARD
END:VTIMEZONE
BEGIN:VEVENT
DTSTART;TZID=Asia/Tokyo:20220904T093000
DTEND;TZID=Asia/Tokyo:20221001T170000
DTSTAMP:20260425T073241
CREATED:20220829T151909Z
LAST-MODIFIED:20220829T163039Z
UID:589-1662283800-1664643600@miyama-iku.com
SUMMARY:【随時】ぎふ美山ガイドウォーク ～葛原地域 神の座す山林編～
DESCRIPTION:ぎふ美山は 面積の約9割 を森林が占め 多くは山です \n地域の山々は 人々の暮らしとともにあり\n代々大切にまもられてきました \n何世代にもわたり\n家族のため 子孫のため\n災害が起きないように\n生業が続けられるように\nこの地域で暮らし続けられるように... \nそうして 美しい景観も保たれ\n豊かな山・森・川 が育まれてきました \n普段は決して外部の人の立ち入ることのない\nまた 立ち入ろうとも思われないような 一見何もない山々... \nそこには 豊かな自然 はもちろん\n守り継いできた人々の 思い や 暮らしの面影\n語り継がれてきた 物語 や 伝説 があります \n今回は 特別に許可をいただいた山に限り\nご案内できることになりました \n普段は入ることができない\n魅力に溢れる ぎふ美山の山林を\nMIYAMAいく が ご案内します\n（※林道を歩きます） \n当シリーズのプログラムでは　開催場所などの詳細は\nお申込みいただいた方にのみに　お伝えします\nどうぞ ご了承ください \n【開催日】できる限り皆様のご要望の日時に合わせて 随時 開催いたします \n【お申し込み方法】当記事下部のwebサイト\, お問い合わせフォーム\, TEL 等で\n　　　　　　　　　当プログラム申し込みの旨と、ご希望日時をお知らせください。 \n【定員】各回８名 \n【 料金 】 3\,000円（1名） \n【 時間 】2時間30分（希望に応じて変更可） \n【持ち物】動きやすい履きなれた靴（あれば長靴、濡れた地面を歩くこともあります）、\n　　　　　長ズボン、動きやすく温度調整しやすい服装、上着（長袖）、帽子、タオル、\n　　　　　飲み物、軽食、虫よけスプレー等\n　　　　　※双眼鏡の貸し出し はお気軽にお声掛けください \n【場所】山県市葛原（詳細はお申込みいただいた方にのみ お知らせいたします） \n↓↓↓ご予約申し込みはコチラ↓↓↓ \n\n\n\n\n								［随時開催］ぎふ美山ガイドウォーク 〜葛原地域 神の座す山林 編 〜 | freee予約\n							\n\n【開催日】随時開催 \n【時間】２時間30分（集合から解散まで） \n【定員】8名 \n【料金】3\,000円（1名） \n【持ち物】\n動きやすい履きなれた靴（あ...【MIYAMAいく】 | free…							 \n\n							\n																	\n																freee予約
URL:https://miyama-iku.com/event/guided-tour-kuzuhara-free/
CATEGORIES:ガイドツアー,随時開催イベント
ATTACH;FMTTYPE=image/jpeg:https://miyama-iku.com/wp-content/uploads/2022/05/16058340774531589_加工少-e1654701828785.jpg
ORGANIZER;CN="MIYAMA%E3%81%84%E3%81%8F":MAILTO:info@miyama-iku.com
END:VEVENT
END:VCALENDAR