BEGIN:VCALENDAR
VERSION:2.0
PRODID:-//MIYAMAいく　～ ぎふ美山 × 行・育・生 ～ - ECPv6.14.2//NONSGML v1.0//EN
CALSCALE:GREGORIAN
METHOD:PUBLISH
X-WR-CALNAME:MIYAMAいく　～ ぎふ美山 × 行・育・生 ～
X-ORIGINAL-URL:https://miyama-iku.com
X-WR-CALDESC:MIYAMAいく　～ ぎふ美山 × 行・育・生 ～ のイベント
REFRESH-INTERVAL;VALUE=DURATION:PT1H
X-Robots-Tag:noindex
X-PUBLISHED-TTL:PT1H
BEGIN:VTIMEZONE
TZID:Asia/Tokyo
BEGIN:STANDARD
TZOFFSETFROM:+0900
TZOFFSETTO:+0900
TZNAME:JST
DTSTART:20230101T000000
END:STANDARD
END:VTIMEZONE
BEGIN:VEVENT
DTSTART;TZID=Asia/Tokyo:20230318T130000
DTEND;TZID=Asia/Tokyo:20230318T170000
DTSTAMP:20260425T062249
CREATED:20230212T152100Z
LAST-MODIFIED:20230212T155736Z
UID:668-1679144400-1679158800@miyama-iku.com
SUMMARY:【春の特別コラボ企画】お寺で遊ぼう ～春の裏山探検と焚き火～
DESCRIPTION:≪ コラボ企画： MIYAMAいく × 水子子育地蔵の山寺 蓮華寺 ≫ \n春の訪れを五感いっぱいに味わう\nそして、昔から営まれる山寺の暮らしの智慧や自然観に学ぶ \n【日時】　2023年 3月 18日(土)　13時～17時 \n【会場】　蓮華寺 （岐阜県山県市葛原3248-1） \n【対象】　小学生以上（1組につき大人1名以上参加）\n　　　　　※お申し込み時に、参加人数、中学生以下の方のご年齢をお知らせください。 \n【料金】　初回モニター価格 3\,500円 ／ 1組（3名まで）\n　　　　　※3名以上の場合は1名追加ごとに1\,000円加算。\n　　　　　※申し込み時に、 1.参加人数 2.中学生以下の方の年齢 をお知らせください。 \n【定員】　先着20名 \n【持ち物】　動きやすい履きなれた靴、長ズボン、長袖（動きやすく温度調整しやすい服装）、\n　　　　　　帽子、タオル、飲み物、焚き火で焼いて食べたいもの（例：マシュマロ、チョコレート、ビスケット→焼きビスケットサンド） \n↓↓↓ご予約はコチラ↓↓↓\nhttps://tol-app.jp/s/miyama-iku/e35hpz
URL:https://miyama-iku.com/event/%e3%80%90%e6%98%a5%e3%81%ae%e7%89%b9%e5%88%a5%e3%82%b3%e3%83%a9%e3%83%9c%e4%bc%81%e7%94%bb%e3%80%91%e3%81%8a%e5%af%ba%e3%81%a7%e9%81%8a%e3%81%bc%e3%81%86-%ef%bd%9e%e6%98%a5%e3%81%ae%e8%a3%8f%e5%b1%b1/
LOCATION:蓮華寺\, 葛原3248-1\, 山県市\, 岐阜県\, 501-2331\, 日本
CATEGORIES:コラボ企画
ORGANIZER;CN="MIYAMA%E3%81%84%E3%81%8F":MAILTO:info@miyama-iku.com
END:VEVENT
END:VCALENDAR