BEGIN:VCALENDAR
VERSION:2.0
PRODID:-//MIYAMAいく　～ ぎふ美山 × 行・育・生 ～ - ECPv6.14.2//NONSGML v1.0//EN
CALSCALE:GREGORIAN
METHOD:PUBLISH
X-ORIGINAL-URL:https://miyama-iku.com
X-WR-CALDESC:MIYAMAいく　～ ぎふ美山 × 行・育・生 ～ のイベント
REFRESH-INTERVAL;VALUE=DURATION:PT1H
X-Robots-Tag:noindex
X-PUBLISHED-TTL:PT1H
BEGIN:VTIMEZONE
TZID:Asia/Tokyo
BEGIN:STANDARD
TZOFFSETFROM:+0900
TZOFFSETTO:+0900
TZNAME:JST
DTSTART:20220101T000000
END:STANDARD
END:VTIMEZONE
BEGIN:VEVENT
DTSTART;TZID=Asia/Tokyo:20221001T133000
DTEND;TZID=Asia/Tokyo:20221111T160000
DTSTAMP:20260425T050342
CREATED:20220801T082920Z
LAST-MODIFIED:20220923T062311Z
UID:564-1664631000-1668182400@miyama-iku.com
SUMMARY:【秋】ぎふ美山 野生動物ガイド ～秋の森とニホンジカ～
DESCRIPTION:秋といえば\n食欲・読書・スポーツ・秋の七草...そしてニホンジカ！ \n秋の季語としても知られていて、万葉集で詠まれた歌は68首にものぼります。 \nじつは秋は、ニホンジカの恋の季節であり、\nこの時期にしか観られない行動がたくさんあります。\nシカが多い森では、この時期特有のシカの匂いが漂い、\n夜になると、やはりこの時期しか聴くことのできない声が響きます。 \n今回は、ニホンジカの研究に携わっていたガイドと一緒に、日中の森の中に入ってみましょう！\nニホンジカの匂いはもちろん、\nさまざまな痕跡を探し、観察し、ときには辿りながら歩いてみます。\n運が良ければ、本人（シカ）に出会えることも！？ \n【開催日】2022年10月\,11月の期間限定\n　　　　　できる限りご要望の日時に合わせて 随時開催いたします \n【お申し込み方法】当記事下部のwebサイト\, お問い合わせフォーム\, TEL 等で\n　　　　　　　　　当プログラム申し込みの旨と、ご希望日時をお知らせください。 \n【定員】各回８名 \n【 料金 】 3\,000円（1名） \n【 時間 】13:30～16:00 \n【持ち物】動きやすい履きなれた靴（あれば長靴、濡れた地面を歩くこともあります）、\n　　　　　長ズボン、動きやすく温度調整しやすい服装、上着（長袖）、帽子、タオル、\n　　　　　飲み物、軽食、虫よけスプレー等\n　　　　　※双眼鏡の貸し出し はお気軽にお声掛けください \n【場所】たずさえの森（山県市富永字南山）  \n↓↓↓ご予約はコチラ↓↓↓\nhttps://tol-app.jp/s/miyama-iku/3v2kax
URL:https://miyama-iku.com/event/sika-deer-autumn/
LOCATION:たずさえの森\, 富永字南山\, 山県市富永字南山\, 岐阜県\, 501-2257\, 日本
CATEGORIES:ガイドツアー,野生動物ガイド
ATTACH;FMTTYPE=image/png:https://miyama-iku.com/wp-content/uploads/2022/08/sika_昼.png
ORGANIZER;CN="MIYAMA%E3%81%84%E3%81%8F":MAILTO:info@miyama-iku.com
END:VEVENT
END:VCALENDAR